BEGIN:VCALENDAR
VERSION:2.0
PRODID:-//Volker Mehl - ECPv6.10.1//NONSGML v1.0//EN
CALSCALE:GREGORIAN
METHOD:PUBLISH
X-WR-CALNAME:Volker Mehl
X-ORIGINAL-URL:https://volkermehl.com
X-WR-CALDESC:Veranstaltungen für Volker Mehl
REFRESH-INTERVAL;VALUE=DURATION:PT1H
X-Robots-Tag:noindex
X-PUBLISHED-TTL:PT1H
BEGIN:VTIMEZONE
TZID:Europe/Berlin
BEGIN:DAYLIGHT
TZOFFSETFROM:+0100
TZOFFSETTO:+0200
TZNAME:CEST
DTSTART:20240331T010000
END:DAYLIGHT
BEGIN:STANDARD
TZOFFSETFROM:+0200
TZOFFSETTO:+0100
TZNAME:CET
DTSTART:20241027T010000
END:STANDARD
END:VTIMEZONE
BEGIN:VEVENT
DTSTART;TZID=Europe/Berlin:20241229T113000
DTEND;TZID=Europe/Berlin:20241229T143000
DTSTAMP:20260424T164056
CREATED:20241024T105648Z
LAST-MODIFIED:20241024T105729Z
UID:10000247-1735471800-1735482600@volkermehl.com
SUMMARY:Über Schwellen gehen - Jahresabschluss-Spaziergang im Lorscher Klostergarten
DESCRIPTION:Zum Jahresende laden wir dich ganz entspannt zu einem gemütlichen Spaziergang im Lorscher Klostergarten ein. Am 29.12. um 11 Uhr treffen wir uns an der Königshalle\, um gemeinsam das alte Jahr hinter uns zu lassen und mit frischem Schwung ins Neue zu starten. \nIn der benediktinischen Tradition haben Schwellen und Übergänge eine besondere Bedeutung – sie stehen dafür\, etwas loszulassen und sich für Neues zu öffnen. Genau das machen wir bei unserem Spaziergang: Wir geben dir ein paar entspannte Impulse\, um mal durchzuatmen und diese Zeit als kleine Einladung zum Neuausrichten zu nutzen. \nNach dem Spaziergang geht’s gemütlich weiter: In der Kochwerkstatt wartet ein heißer Benediktiner-Eintopf und frisch gebackenes Kloster-Bierbrot auf uns. Bei leckerem Essen lassen wir in lockerer Runde das Erlebte wirken und werfen gemeinsam einen Blick aufs neue Jahr. \nVeranstaltungsort und Treffpunkt:\nKloster Lorsch\, Nbelungenstr.34\, 64653 Lorsch\, Treffpunkt ist vor der Königshalle. \nDauer von 11.30 bis ca.14.30 Uhr \nKosten:\n49 €\, inkl. Verpflegung in der Kochwerkstatt\n \n 
URL:https://volkermehl.com/event/jahresabschluss
LOCATION:Kloster Lorsch\, Nibelungenstr.34\, Lorsch\, 64653\, Deutschland
CATEGORIES:Kochkurs
ATTACH;FMTTYPE=image/jpeg:https://volkermehl.com/wp-content/uploads/2024/02/Bild-Kloster-scaled-e1708356588937.jpeg
END:VEVENT
BEGIN:VEVENT
DTSTART;TZID=Europe/Berlin:20240519T143000
DTEND;TZID=Europe/Berlin:20240519T170000
DTSTAMP:20260424T164056
CREATED:20240325T134425Z
LAST-MODIFIED:20240405T090701Z
UID:10000173-1716129000-1716138000@volkermehl.com
SUMMARY:Schatz der Heilkräuter-Rundgang durch den Lorscher Klostergarten am 19.Mai
DESCRIPTION:Komm mit Volker auf einen ganz besonderen Rundgang durch das Kloster Lorsch und erlebe das Medizin Silicon Valley des 8. Jahrhunderts! \nEs ist eine schöne Fügung des Schicksals\, dass nur ca. 1 Kilometer Luftlinie von Volkers Elternhaus das Epizentrum einer Revolution der Medizingeschichte liegt\, das Kloster Lorsch.\nAuch wenn die Gebäude\, die heute noch stehen\, im Vergleich zu anderen Weltkultur Denkmälern vielleicht nicht ganz so imposant sind\, geht es beim Kloster Lorsch\, wie so oft im Leben\, vor allem um die inneren Werte\, denn die sind in der Tat monumental und weltumspannend.\nDenn das Lorscher Arzneibuch\, das im 8. Jahrhundert entstand\, ist ein herausragendes Werk\, das die damalige Welt grundlegend auf den Kopf stellte und ein ganz neues Licht auf den Humanismus und die Wissenschaft geworfen hat.  Um die Bedeutung klarzumachen\, manche Historiker sprechen beim Lorscher Arzneibuch von einem „Heiligtum“ der Mittelalterforschung. Dazu muss man wissen\, dass das Kloster Lorsch direkt Karl dem Großen unterstellt war und viele Gelehrte vom Hof Karls des Großen in Lorsch u.a. auch als Äbte fungiert haben. Deshalb kann man zurecht sagen\, Lorsch war im 8. und 9. Jahrhundert das Silicon Valley der europäischen Naturwissenschaft.\nAn diesem Tag hast du die Chance\, diesen besonderen Ort hautnah zu erleben\, Volker gibt dir einen Einblick in die Geschichte des Klosters und der Klostermedizin. Im Kräutergarten des Klosters erläutert dir Volker die wichtigsten Heilkräuter und deren Verwendung. Im Anschluss geht es dann nach Heppenheim in die Kochwerkstatt\, wo du bei einem gemeinsamen Essen die Aromen Welt der Klosterküche erleben kannst. \nVeranstaltungsort und Treffpunkt:\nKloster Lorsch\, Nbelungenstr.34\, 64653 Lorsch\, Treffpunkt ist vor der Königshalle. \nKosten:\n49 €\, inkl. Verpflegung in der Kochwerkstatt\n \n 
URL:https://volkermehl.com/event/schatz-der-heilkraeuter-rundgang-durch-den-lorscher-klostergarten-am-6-april-2
LOCATION:Kloster Lorsch\, Nibelungenstr.34\, Lorsch\, 64653\, Deutschland
CATEGORIES:Kochkurs
ATTACH;FMTTYPE=image/jpeg:https://volkermehl.com/wp-content/uploads/2024/02/Bild-Kloster-scaled-e1708356588937.jpeg
END:VEVENT
BEGIN:VEVENT
DTSTART;TZID=Europe/Berlin:20240406T143000
DTEND;TZID=Europe/Berlin:20240406T170000
DTSTAMP:20260424T164056
CREATED:20240219T152151Z
LAST-MODIFIED:20240219T153233Z
UID:10000162-1712413800-1712422800@volkermehl.com
SUMMARY:Schatz der Heilkräuter-Rundgang durch den Lorscher Klostergarten am 6. April
DESCRIPTION:Komm mit Volker auf einen ganz besonderen Rundgang durch das Kloster Lorsch und erlebe das Medizin Silicon Valley des 8. Jahrhunderts! \nEs ist eine schöne Fügung des Schicksals\, dass nur ca. 1 Kilometer Luftlinie von Volkers Elternhaus das Epizentrum einer Revolution der Medizingeschichte liegt\, das Kloster Lorsch.\nAuch wenn die Gebäude\, die heute noch stehen\, im Vergleich zu anderen Weltkultur Denkmälern vielleicht nicht ganz so imposant sind\, geht es beim Kloster Lorsch\, wie so oft im Leben\, vor allem um die inneren Werte\, denn die sind in der Tat monumental und weltumspannend.\nDenn das Lorscher Arzneibuch\, das im 8. Jahrhundert entstand\, ist ein herausragendes Werk\, das die damalige Welt grundlegend auf den Kopf stellte und ein ganz neues Licht auf den Humanismus und die Wissenschaft geworfen hat.  Um die Bedeutung klarzumachen\, manche Historiker sprechen beim Lorscher Arzneibuch von einem „Heiligtum“ der Mittelalterforschung. Dazu muss man wissen\, dass das Kloster Lorsch direkt Karl dem Großen unterstellt war und viele Gelehrte vom Hof Karls des Großen in Lorsch u.a. auch als Äbte fungiert haben. Deshalb kann man zurecht sagen\, Lorsch war im 8. und 9. Jahrhundert das Silicon Valley der europäischen Naturwissenschaft.\nAn diesem Tag hast du die Chance\, diesen besonderen Ort hautnah zu erleben\, Volker gibt dir einen Einblick in die Geschichte des Klosters und der Klostermedizin. Im Kräutergarten des Klosters erläutert dir Volker die wichtigsten Heilkräuter und deren Verwendung. Im Anschluss geht es dann nach Heppenheim in die Kochwerkstatt\, wo du bei einem gemeinsamen Essen die Aromen Welt der Klosterküche erleben kannst. \nVeranstaltungsort und Treffpunkt:\nKloster Lorsch\, Nbelungenstr.34\, 64653 Lorsch\, Treffpunkt ist vor der Königshalle. \nKosten:\n49 €\, inkl. Verpflegung in der Kochwerkstatt\n \n 
URL:https://volkermehl.com/event/schatz-der-heilkraeuter-rundgang-durch-den-lorscher-klostergarten-am-6-april
LOCATION:Kloster Lorsch\, Nibelungenstr.34\, Lorsch\, 64653\, Deutschland
CATEGORIES:Kochkurs
ATTACH;FMTTYPE=image/jpeg:https://volkermehl.com/wp-content/uploads/2024/02/Bild-Kloster-scaled-e1708356588937.jpeg
END:VEVENT
END:VCALENDAR