BEGIN:VCALENDAR
VERSION:2.0
PRODID:-//Volker Mehl - ECPv6.10.1//NONSGML v1.0//EN
CALSCALE:GREGORIAN
METHOD:PUBLISH
X-WR-CALNAME:Volker Mehl
X-ORIGINAL-URL:https://volkermehl.com
X-WR-CALDESC:Veranstaltungen für Volker Mehl
REFRESH-INTERVAL;VALUE=DURATION:PT1H
X-Robots-Tag:noindex
X-PUBLISHED-TTL:PT1H
BEGIN:VTIMEZONE
TZID:Europe/Berlin
BEGIN:DAYLIGHT
TZOFFSETFROM:+0100
TZOFFSETTO:+0200
TZNAME:CEST
DTSTART:20230326T010000
END:DAYLIGHT
BEGIN:STANDARD
TZOFFSETFROM:+0200
TZOFFSETTO:+0100
TZNAME:CET
DTSTART:20231029T010000
END:STANDARD
END:VTIMEZONE
BEGIN:VEVENT
DTSTART;TZID=Europe/Berlin:20230430T110000
DTEND;TZID=Europe/Berlin:20230430T140000
DTSTAMP:20260424T164228
CREATED:20230307T211007Z
LAST-MODIFIED:20230308T071304Z
UID:10000027-1682852400-1682863200@volkermehl.com
SUMMARY:Yin und Ayurveda in der Kapelle\, 30.04.2023
DESCRIPTION:Yin und Ayurveda in der Kapelle am Maiberg \nAm 29. und 30. April laden dich Anke und Volker zu zwei ultimativen Premieren ein: Es werden die ersten beiden Workshops unter dem Dach von „Three Spirits Yin Yoga“\, ihrer gemeinsamen Idee der Balance von Yin\, Yang und Ayurveda\, sein. Und dafür haben sie sich ein ganz außergewöhnliches Umfeld ausgesucht: Erstmalig wird in der 1969 gebauten und inzwischen wieder säkularisierten Kapelle des Seminarzentrums „Haus am Maiberg“ Yoga stattfinden. \nFür Volker als Küstersohn\, der (aus dem Nachbarort) aus Lorsch stammt\, tief im Christentum verwurzelt und von den großen spirituellen\, christlichen Lehrern wie Jesus\, Johannes Cassian\, Benedikt\, Theresa von Avila und Johannes vom Kreuz geprägt ist\, hat das eine spezielle Bedeutung. Aber nicht nur für ihn ist der Ort besonders. Als Startpunkt ihrer Beziehung spielt er für Anke und Volker gleichsam eine wichtige Rolle. Sie haben in direkter Nachbarschaft zum Haus am Maiberg gelebt und viele gemeinsame Visionen sind am dortigen „Sunset Place“ entstanden. Umso schöner ist es natürlich\, dass sie gemeinsam mit dir diese Doppel-Premiere genau dort feiern dürfen. Da die Kapelle für beide wesentlich mehr ist\, als ein schöner Veranstaltungsort\, werden die beiden Yoga-Sessions einen besonders feierlichen Rahmen bekommen. So viel sei an dieser Stelle schon mal verraten! \nYin und Ayurveda heißt es dann am Sonntag von 11 bis 14 Uhr. In den ersten eineinhalb Stunden führen dich Anke und Volker gemeinsam durch eine Yin Klasse\, die geprägt sein wird vom Spirit der beiden sowie von der besonderen Energie des Ayurveda. Anke leitet sanfte Yin basierte Flows an und Volker führt dich dazwischen immer wieder in tiefe Ruhephasen\, beides geleitet vom Rhythmus der Natur und der wirkenden Kräfte. Diese Yoga-Session wird dich tiefer in die Verbindung mit deiner eigenen Natur führen. \nNach dem Workshop geben dir Anke und Volker bei einem gemeinsamen Essen noch wertvolle Tipps\, wie du das Potenzial des Ayurveda in deinen Alltag und in dein Lebensumfeld integrieren kannst. \nMitbringen solltest du:\nYoga-Kleidung\, eigene Yogamatte und Hilfsmittel (evtl. Blöcke\, Bolster und Gurt)\, etwas Warmes zum Anziehen\, Getränke. \nVeranstaltungsort:\nKapelle am Maiberg\, 64646 Heppenheim \nKosten:\n79 €\, inkl. ayurvedische After-Yin-Speise\n \n 
URL:https://volkermehl.com/event/yin-und-ayurveda-in-der-kapelle-30-04-2023
LOCATION:Kapelle\, Haus am Maiberg\, Ernst-Ludwig-Straße 19\, Heppenheim\, 64646
CATEGORIES:Yin Yoga
ATTACH;FMTTYPE=image/png:https://volkermehl.com/wp-content/uploads/2023/03/Kapelle_logo.png
END:VEVENT
BEGIN:VEVENT
DTSTART;TZID=Europe/Berlin:20230429T180000
DTEND;TZID=Europe/Berlin:20230429T200000
DTSTAMP:20260424T164228
CREATED:20230307T205413Z
LAST-MODIFIED:20230308T071355Z
UID:10000026-1682791200-1682798400@volkermehl.com
SUMMARY:Yoga in der Kapelle: Yin meets Depeche Mode\, 29.04.2023
DESCRIPTION:Yin Yoga meets Depeche Mode in der Kapelle am Maiberg \nAm 29. und 30. April laden dich Anke und Volker zu zwei ultimativen Premieren ein: Es werden die ersten beiden Workshops unter dem Dach von „Three Spirits Yin Yoga“\, ihrer gemeinsamen Idee der Balance von Yin\, Yang und Ayurveda\, sein. Und dafür haben sie sich ein ganz außergewöhnliches Umfeld ausgesucht: Erstmalig wird in der 1969 gebauten und inzwischen wieder säkularisierten Kapelle des Seminarzentrums „Haus am Maiberg“ Yoga stattfinden. \nFür Volker als Küstersohn\, der (aus dem Nachbarort) aus Lorsch stammt\, tief im Christentum verwurzelt und von den großen spirituellen\, christlichen Lehrern wie Jesus\, Johannes Cassian\, Benedikt\, Theresa von Avila und Johannes vom Kreuz geprägt ist\, hat das eine spezielle Bedeutung. Aber nicht nur für ihn ist der Ort besonders. Als Startpunkt ihrer Beziehung spielt er für Anke und Volker gleichsam eine wichtige Rolle. Sie haben in direkter Nachbarschaft zum Haus am Maiberg gelebt und viele gemeinsame Visionen sind am dortigen „Sunset Place“ entstanden. Umso schöner ist es natürlich\, dass sie gemeinsam mit dir diese Doppel-Premiere genau dort feiern dürfen. Da die Kapelle für beide wesentlich mehr ist\, als ein schöner Veranstaltungsort\, werden die beiden Yoga-Sessions einen besonders feierlichen Rahmen bekommen. So viel sei an dieser Stelle schon mal verraten! \nAn diesem Samstag Abend laden Anke und Volker dich zu einer\, wie sollte es auch anders sein\, „Yin meets Depeche Mode“ Klasse ein. Schon als Teenager hat Volker nachts in der Lorscher Kirche seine Solo Depeche Mode Partys gefeiert und auch Anke ist seit ihrer Jugend großer Depeche Mode Fan. Von diesem Spirit wird diese Klasse getragen. Untermalt von den legendären Texten von DM und erhellt von dutzenden Kerzen\, wird die Premiere einen besonders feierlichen Rahmen bekommen. \nWie es so schön im Text von „Freestate“ heißt: \nStep out of your cage\nAnd onto the stage\nIt’s time to start\nPlaying your part\nFreedom awaits\nOpen the gates\nOpen your mind\nFreedom’s a state… \nNach der Klasse feiern wir gemeinsam ein kleines Feuer-Ritual und genießen beim Essen den wunderschönen Sunset. \nMitbringen solltest du:\nYoga-Kleidung\, eigene Yogamatte und Hilfsmittel (evtl. Blöcke\, Bolster und Gurt)\, etwas Warmes zum Anziehen\, Getränke. \nVeranstaltungsort:\nKapelle am Maiberg\, 64646 Heppenheim \nKosten:\n49 €\, inkl. ayurvedische After-Yin-Speise und Getränk\n \n 
URL:https://volkermehl.com/event/yoga-in-der-kapelle-yin-meets-depeche-mode-29-04-2023
LOCATION:Kapelle\, Haus am Maiberg\, Ernst-Ludwig-Straße 19\, Heppenheim\, 64646
CATEGORIES:Yin Yoga
ATTACH;FMTTYPE=image/png:https://volkermehl.com/wp-content/uploads/2023/03/Kapelle_logo.png
END:VEVENT
END:VCALENDAR