BEGIN:VCALENDAR
VERSION:2.0
PRODID:-//Volker Mehl - ECPv6.10.1//NONSGML v1.0//EN
CALSCALE:GREGORIAN
METHOD:PUBLISH
X-WR-CALNAME:Volker Mehl
X-ORIGINAL-URL:https://volkermehl.com
X-WR-CALDESC:Veranstaltungen für Volker Mehl
REFRESH-INTERVAL;VALUE=DURATION:PT1H
X-Robots-Tag:noindex
X-PUBLISHED-TTL:PT1H
BEGIN:VTIMEZONE
TZID:Europe/Berlin
BEGIN:DAYLIGHT
TZOFFSETFROM:+0100
TZOFFSETTO:+0200
TZNAME:CEST
DTSTART:20260329T010000
END:DAYLIGHT
BEGIN:STANDARD
TZOFFSETFROM:+0200
TZOFFSETTO:+0100
TZNAME:CET
DTSTART:20261025T010000
END:STANDARD
BEGIN:DAYLIGHT
TZOFFSETFROM:+0100
TZOFFSETTO:+0200
TZNAME:CEST
DTSTART:20270328T010000
END:DAYLIGHT
BEGIN:STANDARD
TZOFFSETFROM:+0200
TZOFFSETTO:+0100
TZNAME:CET
DTSTART:20271031T010000
END:STANDARD
END:VTIMEZONE
BEGIN:VEVENT
DTSTART;TZID=Europe/Berlin:20261031T110000
DTEND;TZID=Europe/Berlin:20261031T143000
DTSTAMP:20260426T062151
CREATED:20260421T082247Z
LAST-MODIFIED:20260421T082404Z
UID:10000455-1793444400-1793457000@volkermehl.com
SUMMARY:15 Jahre Koch dich glücklich - Der Jubiläums Ayurveda Einsteiger Kochkurs
DESCRIPTION:15 Jahre\, 18 Bücher – und immer noch heiß am Herd. \n2026 ist für mich mehr als nur ein Jubiläum.Es ist ein Moment zum Zurückblicken\, Schmunzeln\, Staunen – und zum Feiern.Denn was 2011 mit „Koch dich Glücklich“\, einem Buch voller Ideen\, Sehnsucht und Gewürzen angefangen hat\, ist heute eine Reise mit 18 Büchern\, Hunderten Kursen und unzähligen Begegnungen. Und genau euch hab ich das zu verdanken. \nDeshalb gibt’s jetzt keine große Show – sondern das\, was wir am besten können: Kochen. Teilen. Verbinden. \nIch lade euch ein zu einer besonderen Reihe von Ayurveda-Einsteigerkursen\, die von Gudrun aus meinem Team geleitet werden. Als promovierte Biologin bringt sie eine ganz neue Qualität und Tiefe in die Kurse – mit viel Wissen\, Klarheit und Herz.Ich bin unglaublich dankbar\, dass sie während meiner kleinen Kochkurs-Fastenphase ihre riesige Kompetenz einbringt und die Kurse mit so viel Hingabe weiterführt. \nWas euch erwartet:– Eine Best-of-Auswahl aus 18 Büchern\, direkt aus unserer Küche– Rezepte\, die noch nie das Licht der Buchwelt erblickt haben– Alltags-Ayurveda zum Mitkochen\, Mitfühlen und Löffelverlieben– Und ein bisschen was fürs Herz\, das man nicht in Worte fassen kann \nWenn du Lust hast auf ehrliches Essen\, entspannte Stimmung und ein bisschen kulinarische Nostalgie mit Augenzwinkern – dann bist du genau richtig. \nDas wird kein Kurs wie jeder andere. Das ist unsere Jubiläumsküche.Und ich freu mich riesig\, wenn du dabei bist. \nVon Herzen\,Volker \nVeranstaltungsort:Kochwerkstatt\, In der Krone 7\, 64646 Heppenheim \nKosten:\n149 €\, inkl. Rezepte
URL:https://volkermehl.com/event/15-jahre-koch-dich-gluecklich-der-jubilaeums-ayurveda-einsteiger-kochkurs-14
LOCATION:Kochwerkstatt\, In der Krone 7\, Heppenheim\, 64646\, Germany
CATEGORIES:Kochkurs
ATTACH;FMTTYPE=image/png:https://volkermehl.com/wp-content/uploads/2025/07/Design-ohne-Titel-2.png
END:VEVENT
BEGIN:VEVENT
DTSTART;TZID=Europe/Berlin:20270609T190000
DTEND;TZID=Europe/Berlin:20270609T213000
DTSTAMP:20260426T062151
CREATED:20260210T102020Z
LAST-MODIFIED:20260210T102054Z
UID:10000423-1812567600-1812576600@volkermehl.com
SUMMARY:„21 – Ein Abend im Kloster Eberbach"
DESCRIPTION:Ich möchte gemeinsam mit euch mein 21. Buch feiern\, das im Frühjahr 2027 erscheinen wird.In diesem Buch geht es – so intensiv wie noch nie zuvor – um die besondere Wirkung von Kräutern\, Heilpflanzen und Bäumen auf Körper und Seele. \nFür die Premiere habe ich mir ganz bewusst einen besonderen Ort ausgesucht:das wunderschöne Kloster Eberbach\, eine ehemalige Zisterzienserabtei und ein Ort mit großer Geschichte und besonderer Atmosphäre. \nDie Lesung findet im Alten Brauhaus des Klosters statt – ein Raum\, der wie geschaffen ist für einen Abend der körperlichen und seelischen Nährung.Kommt mit auf eine kleine Reise zu unseren kulturellen Wurzeln und den Wurzeln der europäischen Heiltradition. \nWenn ihr Lust auf einen besonderen Abend in einmaliger Atmosphäre habt\,freue ich mich sehr\, euch dort live zu sehen. \n🕖 Beginn der Lesung: 19 Uhr
URL:https://volkermehl.com/event/ein-abend-im-kloster
LOCATION:Kloster Eberbach\, Kloster Eberbach\, Eberbach\, 65346\, Germany
CATEGORIES:Buchvorstellung
ATTACH;FMTTYPE=image/png:https://volkermehl.com/wp-content/uploads/2026/02/Event-Eberbach.png
END:VEVENT
END:VCALENDAR