BEGIN:VCALENDAR
VERSION:2.0
PRODID:-//Volker Mehl - ECPv6.10.1//NONSGML v1.0//EN
CALSCALE:GREGORIAN
METHOD:PUBLISH
X-WR-CALNAME:Volker Mehl
X-ORIGINAL-URL:https://volkermehl.com
X-WR-CALDESC:Veranstaltungen für Volker Mehl
REFRESH-INTERVAL;VALUE=DURATION:PT1H
X-Robots-Tag:noindex
X-PUBLISHED-TTL:PT1H
BEGIN:VTIMEZONE
TZID:Europe/Berlin
BEGIN:DAYLIGHT
TZOFFSETFROM:+0100
TZOFFSETTO:+0200
TZNAME:CEST
DTSTART:20260329T010000
END:DAYLIGHT
BEGIN:STANDARD
TZOFFSETFROM:+0200
TZOFFSETTO:+0100
TZNAME:CET
DTSTART:20261025T010000
END:STANDARD
END:VTIMEZONE
BEGIN:VEVENT
DTSTART;TZID=Europe/Berlin:20260703T100000
DTEND;TZID=Europe/Berlin:20260705T163000
DTSTAMP:20260426T005503
CREATED:20260305T174851Z
LAST-MODIFIED:20260305T174851Z
UID:10000438-1783072800-1783269000@volkermehl.com
SUMMARY:Ayurveda Grundlagen Ernährungs- und Kochausbildung - Zusatztermin
DESCRIPTION:„Die Ayurveda Kochwerkstatt“: Volkers Grundlagen Ausbildung für gesunde Koch- und Ernährungspraxis im Alltag \nDas Interesse an einer naturnahen und gesunden Ernährung wächst stetig. Besonders der Wunsch nach individuellen Ansätzen und Lösungen ist weit verbreitet. Nach vielen Jahren Engagement in diesem Thema und zahlreichen daraus entstandenen Büchern freut uns das natürlich besonders! \nDer Ayurveda bietet seit jeher einen einfachen und praktischen Weg\, die eigene Gesundheit zu unterstützen und im Gleichgewicht zu bleiben oder dorthin zurückzufinden. Die Ernährung\, das Wissen um passende Lebensmittel\, die Heilwirkung von Gewürzen und Kräutern sowie die grundlegenden Prinzipien der Nahrungszubereitung und -aufnahme spielen dabei eine zentrale Rolle. Mit Volkers Idee der Ayurveda Heimatküche wurde eine Brücke zwischen dem „indischen Ayurveda“ und unserer regionalen Küche geschaffen\, die das Beste aus beiden Welten vereint. \nMit der intensiven Kochpraxis legen wir ein solides Fundament\, um jeden Tag von dem großartigen Wissen des Lebens profitieren zu können. \nAußerdem lichtet Volker den Verständnis-Nebel um die Bioenergien (Doshas) und zeigt dir\, wie du sie wirklich hilfreich einsetzen und in dein Familienleben integrieren kannst\, damit sie zukünftig mehr ein verbindendes Element als ein Spalter am Esstisch sind. \nDieser Kurs eignet sich für Einsteiger und Fortgeschrittene\, die ihre Kochpraxis vertiefen wollen und sowohl die gesunde Ayurveda-Küche als auch den gesundheitsfördernden und ausgleichenden Lebensstil dauerhaft\, einfach und leicht in ihr Leben integrieren möchten. \nDiese Weiterbildung beinhaltet: \n\nDas Buch „Die Ayurveda Kochwerkstatt“\, das gleichzeitig Skript ist und das du im Vorfeld zugeschickt bekommst\nVerpflegung während des Live-Seminars\nAufzeichnung der Online-Termine (für den Fall\, dass du nicht teilnehmen kannst)\nTeilnahmezertifikat\n\nDIE EINZELNEN TERMINE: \n29.06.2026\, 19-20 Uhr\nPersönliches Kennenlernen und Ayurveda Basics – Online Zoom\nIn diesem ersten Termin geht es vor allem um ein persönliches Kennenlernen und den Austausch von Erfahrungen\, Bedürfnissen und Zielen im Zusammenhang mit dieser Weiterbildung. \n03-05.07.2026\, jeweils 10-16:30 Uhr\nKochpraxis Live – Intensiv-Wochenende in unserer Kochwerkstatt in Heppenheim\nAn diesem Intensiv-Wochenende tauchst du ein in die Kochpraxis unserer ayurvedischen Alltags-Küche. Wir kochen zusammen die wichtigsten Basis-Rezepte in Anlehnung an die „Werkstatt“\, angefangen bei den verschiedenen Frühstückvarianten\, Suppen\, Getränken bis hin zu ayurvedischen Süßspeisen. Du lernst den richtigen Umgang mit den wichtigsten Gewürzen und die einfache Herstellung von ausgleichenden Gewürzmischungen.\nGemeinsam in der Gruppe kochen und essen wir und lernen die Kunst der Improvisation\, losgelöst von Listen und Dogmen\, kennen. \n13.07.2026\, 19-20:00 Uhr\nRefresh / Frage & Antwort\nWir treffen uns im Nachgang noch einmal Online\, um Eure eventuelle Fragen\, die im Nachgang entstanden sind zu klären. \nKosten:\n795\,-€\, inkl. Buch und Verpflegung am Live-Termin \nAdresse:\nAyurveda Kochwerkstatt\, In der Krone 7 64646 Heppenheim \nAnmeldung per Mail unter: office@volkermehl.com
URL:https://volkermehl.com/event/ayurveda-grundlagen-ernaehrungs-und-kochausbildung-zusatztermin
LOCATION:Kochwerkstatt\, In der Krone 7\, Heppenheim\, 64646\, Germany
CATEGORIES:Ausbildung
ATTACH;FMTTYPE=image/png:https://volkermehl.com/wp-content/uploads/2024/03/Ankuendigung.png
END:VEVENT
BEGIN:VEVENT
DTSTART;TZID=Europe/Berlin:20260717T100000
DTEND;TZID=Europe/Berlin:20260719T163000
DTSTAMP:20260426T005503
CREATED:20260207T063556Z
LAST-MODIFIED:20260207T063556Z
UID:10000421-1784282400-1784478600@volkermehl.com
SUMMARY:Ayurveda trifft Klostermedizin - Die Grundlagen Ausbildung zur HR-Doku
DESCRIPTION:Dreitägige Praxis-Ausbildung für Heilküche\, Feuer & therapeutisches Kochen\nDiese Ausbildung ist kein Retreat\, keine spirituelle Auszeit und kein Theorieseminar.Sie ist eine konzentrierte\, praktische Weiterbildung\, in der zwei bewährte Medizinsysteme zusammengeführt werden: Ayurveda und europäische Klostermedizin.\nAb Sommer 2026 findet die Ausbildung persönlich bei mir statt –in meiner Kochwerkstatt in Heppenheim und im Klostergarten von Kloster Lorsch\, dem historischen Entstehungsort des weltbekannten Lorscher Arzneibuchs.\nIm Mittelpunkt steht das praktische Arbeiten:kochen\, herstellen\, verkosten\, vergleichen – und verstehen\,wie Nahrung wieder funktionale Medizin wird.\nGrundlage der Ausbildung ist mein Buch„Koch dich gesund – Ayurveda trifft Klosterküche“\,das beide Heiltraditionen erstmals systematisch und alltagstauglich verbindet.\nAblauf der Ausbildung \nTag 1 – Erde | Grundlagen & Struktur\n\n\nBenediktinerregel und ayurvedische Tagesrhythmen \n\n\nWas Heilküche konkret bedeutet – historisch und heute \n\n\nBacken von Klosterbrot nach traditioneller Rezeptur \n\n\nHerstellung von Ghee als Basisfett beider Medizinsysteme \n\n\nRuhiges Abendritual im Klostergarten (Ankommen & Fokussieren) \n\n\nTag 2 – Feuer | Therapeutisches Kochen\n\n\nKochen mit Klosterkräutern und europäischen Gewürzen \n\n\nVergleich: ayurvedische & europäische Gewürzmedizin \n\n\nHeilkräuter-Eintopf und Kitchari im klösterlichen Stil \n\n\nFermente und Feuerküche – direkt\, ursprünglich\, praxisnah \n\n\nArbeit in meiner Werkstatt: schneiden\, kochen\, abschmecken \n\n\nTag 3 – Seele | Anwendung & Integration\n\n\nSpirituelle Ernährung ohne Dogma – praktisch umsetzbar \n\n\nDinkelgerichte aus der klösterlichen Alltagsküche \n\n\nHerstellung von Kräuterölen und Heilsalben \n\n\nAbschlussritual im Klostergarten \n\n\nZertifikat: Ayurveda trifft Klostermedizin – Ost trifft West \n\n\nWas diese Ausbildung besonders macht\n\n\nEinziger Ausbildungsort dieser Art am historischen Kloster Lorsch \n\n\nKleine Gruppe für intensives\, persönliches Arbeiten \n\n\nKonsequenter Hands-on-Fokus statt Theorieblöcke \n\n\nHistorische Rezepturen\, Feuerküche & Naturarbeit \n\n\nPraxisnahe Verbindung von Ayurveda und Klostermedizin \n\n\nBuch\, Skript und vollständige Verpflegung inklusive \n\n\nKlarer Aufbau: Erde – Feuer – Seele \n\n\nTeilnahmegebühr\n795 € für die gesamte dreitägige Ausbildunginklusive Volkers Buch „Koch dich Gesund“ und kompletter Verpflegung \nDie Teilnehmerzahl ist bewusst begrenzt.Bei Interesse oder Fragen: \nAnmeldung per Mail: office@volkermehl.com
URL:https://volkermehl.com/event/ayurveda-trifft-klostermedizin-die-grundlagen-ausbildung-zur-hr-doku-2
LOCATION:Kochwerkstatt\, In der Krone 7\, Heppenheim\, 64646\, Germany
CATEGORIES:Ausbildung
ATTACH;FMTTYPE=image/png:https://volkermehl.com/wp-content/uploads/2025/12/Dankbar-im-sein-wehmut-im-sein-erfuellt-im-sein.png
END:VEVENT
END:VCALENDAR