BEGIN:VCALENDAR
VERSION:2.0
PRODID:-//Volker Mehl - ECPv6.10.1//NONSGML v1.0//EN
CALSCALE:GREGORIAN
METHOD:PUBLISH
X-ORIGINAL-URL:https://volkermehl.com
X-WR-CALDESC:Veranstaltungen für Volker Mehl
REFRESH-INTERVAL;VALUE=DURATION:PT1H
X-Robots-Tag:noindex
X-PUBLISHED-TTL:PT1H
BEGIN:VTIMEZONE
TZID:Europe/Berlin
BEGIN:DAYLIGHT
TZOFFSETFROM:+0100
TZOFFSETTO:+0200
TZNAME:CEST
DTSTART:20260329T010000
END:DAYLIGHT
BEGIN:STANDARD
TZOFFSETFROM:+0200
TZOFFSETTO:+0100
TZNAME:CET
DTSTART:20261025T010000
END:STANDARD
END:VTIMEZONE
BEGIN:VEVENT
DTSTART;TZID=Europe/Berlin:20260918T160000
DTEND;TZID=Europe/Berlin:20260920T150000
DTSTAMP:20260426T051606
CREATED:20260326T080045Z
LAST-MODIFIED:20260326T080400Z
UID:10000442-1789747200-1789916400@volkermehl.com
SUMMARY:Intensiv Koch Aufbau Modul mit Volker
DESCRIPTION:Wie angekündigt werde ich mich zukünftig verstärkt dem Thema Ausbilden widmen. \nDa von meinen Teilnehmern immer wieder der Wunsch nach mehr Kochpraxis kam\,gibt es jetzt ein neues Format: \n👉 Ein ganzes Wochenende – nur Kochen.Freitag bis Sonntag.Ayurveda am Herd\, in der Praxis. \nWir vertiefen die Kochpraxisund schauen uns auch nochmal intensiv das Thema Doshas an –vor allem spannend\, wenn die Basics bereits sitzen. \nWichtig:Das ist kein Einsteiger-Format.Ich setze grundlegende Ayurveda-Kenntnisse voraus. \nDas Modul ist offen –für alle\, die ihr Verständnis in der Küche wirklich vertiefen wollen.\nGrundlage ist auch hier mein Buch Die Ayurveda Kochwerkstatt \n🕓 Start: Freitag 16 Uhr🕒 Ende: Sonntag ca. 15 Uhr \n👥 Max. 8 Teilnehmer📜 Teilnahme-Zertifikat inklusive\nTeilnehmergebühr: 795€ \nAnmeldung unter office@volkermehl.com
URL:https://volkermehl.com/event/intensiv-koch-aufbau-modul-mit-volker
LOCATION:Kochwerkstatt\, In der Krone 7\, Heppenheim\, 64646\, Germany
CATEGORIES:Ausbildung
ATTACH;FMTTYPE=image/png:https://volkermehl.com/wp-content/uploads/2026/03/Aufbau-Ausbildung.png
END:VEVENT
END:VCALENDAR