BEGIN:VCALENDAR
VERSION:2.0
PRODID:-//Volker Mehl - ECPv6.10.1//NONSGML v1.0//EN
CALSCALE:GREGORIAN
METHOD:PUBLISH
X-ORIGINAL-URL:https://volkermehl.com
X-WR-CALDESC:Veranstaltungen für Volker Mehl
REFRESH-INTERVAL;VALUE=DURATION:PT1H
X-Robots-Tag:noindex
X-PUBLISHED-TTL:PT1H
BEGIN:VTIMEZONE
TZID:Europe/Berlin
BEGIN:DAYLIGHT
TZOFFSETFROM:+0100
TZOFFSETTO:+0200
TZNAME:CEST
DTSTART:20260329T010000
END:DAYLIGHT
BEGIN:STANDARD
TZOFFSETFROM:+0200
TZOFFSETTO:+0100
TZNAME:CET
DTSTART:20261025T010000
END:STANDARD
END:VTIMEZONE
BEGIN:VEVENT
DTSTART;TZID=Europe/Berlin:20260906T110000
DTEND;TZID=Europe/Berlin:20260906T153000
DTSTAMP:20260426T035730
CREATED:20260408T094054Z
LAST-MODIFIED:20260408T094054Z
UID:10000448-1788692400-1788708600@volkermehl.com
SUMMARY:„Einstieg in die magische Welt der Kräuter“-Der Kochkurs
DESCRIPTION:Ich nehme euch mit auf eine Reise in die Welt der Pflanzen – so\, wie ich sie selbst seit meiner Kindheit erlebe: zwischen Klostermedizin\, gelebter Tradition\, Spiritualität und echter\, ehrlicher Küche. \nWas euch erwartet: \n\nEin Halbtages-Kochkurs voller Praxis\, Wissen und Genuss\nTiefe Einblicke in die Kraft und Bedeutung heimischer Kräuter\nGeschichten und Hintergründe aus alten Heiltraditionen\nUnd natürlich: gemeinsames Kochen und Genießen\n\nFreut euch dabei auf ein paar typische „Volker“-Rezepte wie: \n\nEibischwurzel-Marshmallow\nJohanniskraut-Sonnenbrot\nSalbei-Zitrus-Polenta\nKnoblauch-Röst-Dattel-Dip\n\nUnd ja – jedes dieser Gerichte trägt nicht nur Geschmack\, sondern auch eine Geschichte in sich. \nDiese neue Reihe ist für mich mehr als ein Kochkurs. Es ist eine Einladung\, Pflanzen neu zu entdecken\, sie zu verstehen – und vielleicht auch ein Stück näher zu sich selbst zu kommen. \nUnd ein kleiner Ausblick:\nIm Frühjahr 2027 erscheint ein Herzensprojekt\, das genau diese Welt noch tiefer öffnet… \n Ich freue mich sehr darauf\, diese Reise mit euch zu teilen.
URL:https://volkermehl.com/event/heilkraeuter
LOCATION:Kochwerkstatt\, In der Krone 7\, Heppenheim\, 64646\, Germany
CATEGORIES:Kochkurs
ATTACH;FMTTYPE=image/png:https://volkermehl.com/wp-content/uploads/2026/04/„Einstieg-in-die-magische-Welt-der-Kraeuter-1.png
END:VEVENT
END:VCALENDAR