BEGIN:VCALENDAR
VERSION:2.0
PRODID:-//Volker Mehl - ECPv6.10.1//NONSGML v1.0//EN
CALSCALE:GREGORIAN
METHOD:PUBLISH
X-WR-CALNAME:Volker Mehl
X-ORIGINAL-URL:https://volkermehl.com
X-WR-CALDESC:Veranstaltungen für Volker Mehl
REFRESH-INTERVAL;VALUE=DURATION:PT1H
X-Robots-Tag:noindex
X-PUBLISHED-TTL:PT1H
BEGIN:VTIMEZONE
TZID:Europe/Berlin
BEGIN:DAYLIGHT
TZOFFSETFROM:+0100
TZOFFSETTO:+0200
TZNAME:CEST
DTSTART:20260329T010000
END:DAYLIGHT
BEGIN:STANDARD
TZOFFSETFROM:+0200
TZOFFSETTO:+0100
TZNAME:CET
DTSTART:20261025T010000
END:STANDARD
END:VTIMEZONE
BEGIN:VEVENT
DTSTART;TZID=Europe/Berlin:20260527T180000
DTEND;TZID=Europe/Berlin:20260527T213000
DTSTAMP:20260425T232320
CREATED:20260310T110511Z
LAST-MODIFIED:20260325T082941Z
UID:10000440-1779904800-1779917400@volkermehl.com
SUMMARY:15 Jahre Koch dich glücklich - Der Jubiläums Ayurveda Einsteiger Kochkurs in Hamburg
DESCRIPTION:Liebe Community und die ganz treuen Seelen\, die mich seit 2011 begleiten – wir feiern gemeinsam in Hamburg\n15 Jahre\, 18 Bücher – und immer noch heiß am Herd. \n2026 ist für mich mehr als nur ein Jubiläum.\nEs ist ein Moment zum Zurückblicken\, Schmunzeln\, Staunen – und zum Feiern.\nDenn was 2011 mit „Koch dich Glücklich“\, einem Buch voller Ideen\, Sehnsucht und Gewürzen angefangen hat\, ist heute eine Reise mit 18 Büchern\, Hunderten Kursen und unzähligen Begegnungen. Und genau euch hab ich das zu verdanken. \nDeshalb gibt’s jetzt keine große Show – sondern das\, was ich am besten kann: Kochen. Teilen. Verbinden. \nIch lade euch ein zu einer besonderen Reihe von Ayurveda-Einsteigerkursen\, in denen ich meine persönlichen Lieblingsrezepte aus den letzten 15 Jahren mit euch teile.\nGerichte\, die für mich mehr sind als Rezepte.\nSie erzählen Geschichten – von Menschen\, Orten und Momenten.\nUnd sie zeigen: Ayurveda muss nicht kompliziert sein – nur ehrlich\, warm und gut abgeschmeckt. \nWas euch erwartet:\n– Eine Best-of-Auswahl aus 18 Büchern\, direkt aus meiner Küche\n– Rezepte\, die noch nie das Licht der Buchwelt erblickt haben\n– Alltags-Ayurveda zum Mitkochen\, Mitfühlen und Löffelverlieben\n– Und ein bisschen was fürs Herz\, das man nicht in Worte fassen kann \nWenn du Lust hast auf ehrliches Essen\, entspannte Stimmung und ein bisschen kulinarische Nostalgie mit Augenzwinkern – dann bist du genau richtig. \nDas wird kein Kurs wie jeder andere. Das ist unsere Jubiläumsküche.\nUnd ich freu mich riesig\, wenn du dabei bist. \nVon Herzen\,\nVolker \nVeranstaltungsort:\nGekreuztes Möhrchen\, Bernstorffstr.89\, 22767 Hamburg \nKosten:\n169 €\, inkl. Rezepte
URL:https://volkermehl.com/event/15-jahre-koch-dich-gluecklich-der-jubilaeums-ayurveda-einsteiger-kochkurs-12
LOCATION:Gekreuzte Möhrchen\, Bernstorffstraße 89\, Hamburg\, 22767\, Deutschland
CATEGORIES:Kochkurs
ATTACH;FMTTYPE=image/png:https://volkermehl.com/wp-content/uploads/2025/07/Design-ohne-Titel-2.png
END:VEVENT
END:VCALENDAR