BEGIN:VCALENDAR
VERSION:2.0
PRODID:-//Volker Mehl - ECPv6.10.1//NONSGML v1.0//EN
CALSCALE:GREGORIAN
METHOD:PUBLISH
X-ORIGINAL-URL:https://volkermehl.com
X-WR-CALDESC:Veranstaltungen für Volker Mehl
REFRESH-INTERVAL;VALUE=DURATION:PT1H
X-Robots-Tag:noindex
X-PUBLISHED-TTL:PT1H
BEGIN:VTIMEZONE
TZID:Europe/Berlin
BEGIN:DAYLIGHT
TZOFFSETFROM:+0100
TZOFFSETTO:+0200
TZNAME:CEST
DTSTART:20260329T010000
END:DAYLIGHT
BEGIN:STANDARD
TZOFFSETFROM:+0200
TZOFFSETTO:+0100
TZNAME:CET
DTSTART:20261025T010000
END:STANDARD
END:VTIMEZONE
BEGIN:VEVENT
DTSTART;TZID=Europe/Berlin:20260422T190000
DTEND;TZID=Europe/Berlin:20260422T210000
DTSTAMP:20260425T232502
CREATED:20260221T175437Z
LAST-MODIFIED:20260221T175600Z
UID:10000435-1776884400-1776891600@volkermehl.com
SUMMARY:Offene Kochwerkstatt
DESCRIPTION:Ich öffne die Tür für euch!\nKomm rein\, nimm Platz\, koste und spür. \nIch lade dich ein\, Ayurveda hautnah zu erleben – nicht im Buch\, nicht auf Insta\, sondern live in meiner Kochwerkstatt in Heppenheim.\nIn entspannter Atmosphäre\, mit leckeren Kostproben aus meiner Küche\, einem offenen Ohr und besonderen Menschen. \nOb du mich schon kennst oder ganz neu reinschnuppern willst –\nich freu mich riesig auf dich! \nWo: Heppenheim\, In der Krone 7\nWie viel: 30€ (inkl. Kostproben\, Wasser & Tee) \n👉 Melde dich an – die Plätze sind begrenzt.
URL:https://volkermehl.com/event/offene-kochwerkstatt-5
LOCATION:Kochwerkstatt\, In der Krone 7\, Heppenheim\, 64646\, Germany
CATEGORIES:Kochkurs
ATTACH;FMTTYPE=image/png:https://volkermehl.com/wp-content/uploads/2026/02/Karotte-Werkstatt.png
END:VEVENT
END:VCALENDAR