BEGIN:VCALENDAR
VERSION:2.0
PRODID:-//Volker Mehl - ECPv6.10.1//NONSGML v1.0//EN
CALSCALE:GREGORIAN
METHOD:PUBLISH
X-WR-CALNAME:Volker Mehl
X-ORIGINAL-URL:https://volkermehl.com
X-WR-CALDESC:Veranstaltungen für Volker Mehl
REFRESH-INTERVAL;VALUE=DURATION:PT1H
X-Robots-Tag:noindex
X-PUBLISHED-TTL:PT1H
BEGIN:VTIMEZONE
TZID:Europe/Berlin
BEGIN:DAYLIGHT
TZOFFSETFROM:+0100
TZOFFSETTO:+0200
TZNAME:CEST
DTSTART:20260329T010000
END:DAYLIGHT
BEGIN:STANDARD
TZOFFSETFROM:+0200
TZOFFSETTO:+0100
TZNAME:CET
DTSTART:20261025T010000
END:STANDARD
END:VTIMEZONE
BEGIN:VEVENT
DTSTART;TZID=Europe/Berlin:20260329T100000
DTEND;TZID=Europe/Berlin:20260329T180000
DTSTAMP:20260426T005343
CREATED:20250519T204555Z
LAST-MODIFIED:20260219T081233Z
UID:10000307-1774778400-1774807200@volkermehl.com
SUMMARY:Der Sonntag ohne Eile
DESCRIPTION:Von 10:00 bis 18:00 Uhr steht die Tür offen.\nKomm vorbei und genieße die besondere\, entspannte Atmosphäre des „Laden ohne Eile“. \nPassend zur Provence erwarten dich:Frisches Brioche\, selbstgemachte Marmelade\, Kräuterquark –und natürlich Kaffee aus meiner ersten eigenen Kaffee-Edition. \nOhne Anmeldung. Ohne Druck.Einfach sein. \nAdresse: Würzburger Tor 3\, 64646 Heppenheim
URL:https://volkermehl.com/event/ayurveda-fuer-alle-meine-2-tages-live-ausbildung-in-wensin
LOCATION:Der Laden ohne Eile Neckargemünd\, Hauptstr.51\, Neckargemünd\, 69151\, Germany
CATEGORIES:Auszeit
ATTACH;FMTTYPE=image/png:https://volkermehl.com/wp-content/uploads/2025/05/Sonntag-ohne-Eile.png
END:VEVENT
END:VCALENDAR