BEGIN:VCALENDAR
VERSION:2.0
PRODID:-//Volker Mehl - ECPv6.10.1//NONSGML v1.0//EN
CALSCALE:GREGORIAN
METHOD:PUBLISH
X-WR-CALNAME:Volker Mehl
X-ORIGINAL-URL:https://volkermehl.com
X-WR-CALDESC:Veranstaltungen für Volker Mehl
REFRESH-INTERVAL;VALUE=DURATION:PT1H
X-Robots-Tag:noindex
X-PUBLISHED-TTL:PT1H
BEGIN:VTIMEZONE
TZID:Europe/Berlin
BEGIN:DAYLIGHT
TZOFFSETFROM:+0100
TZOFFSETTO:+0200
TZNAME:CEST
DTSTART:20260329T010000
END:DAYLIGHT
BEGIN:STANDARD
TZOFFSETFROM:+0200
TZOFFSETTO:+0100
TZNAME:CET
DTSTART:20261025T010000
END:STANDARD
END:VTIMEZONE
BEGIN:VEVENT
DTSTART;TZID=Europe/Berlin:20260328T180000
DTEND;TZID=Europe/Berlin:20260328T213000
DTSTAMP:20260426T022035
CREATED:20260214T230600Z
LAST-MODIFIED:20260219T081128Z
UID:10000426-1774720800-1774733400@volkermehl.com
SUMMARY:Mit Volker am langen Tisch | Provence
DESCRIPTION:Als großer Fan des Films „Ein gutes Jahr“ und der Weine aus der Provence lade ich dich zu einem ganz besonderen Abend ein.\nWir reisen – kulinarisch und literarisch – in den Süden Frankreichs.Dorthin\, wo die Abende warm sind\, der Rosé im Glas schimmert und das Leben ein wenig langsamer fließt. \nAn diesem Abend koche ich einige meiner Favoriten aus meinen liebsten Provence-Kochbüchern – Gerichte\, die nach Sonne\, Kräutern und Leichtigkeit schmecken.Dazu öffnen wir ausgewählte Weine aus der Region und sprechen über das\, was gutes Essen und gute Geschichten gemeinsam haben: Sie verbinden. \nEin langer Tisch.Zwölf Menschen.Zeit zum Genießen\, Zuhören und Erzählen. \nEin Abend voller südfranzösischer Lebensfreude – mitten in der Heppenheimer Altstadt. \n🕰 18:00 – 21:30 Uhr🎟 maximal 12 Plätze💶 79 € inklusive aller Getränke \nAdresse: Würzburger Tor 3\, 64646 Heppenheim
URL:https://volkermehl.com/event/mit-volker-am-langen-tisch-provence
LOCATION:Der Laden ohne Eile Neckargemünd\, Hauptstr.51\, Neckargemünd\, 69151\, Germany
CATEGORIES:Auszeit
ATTACH;FMTTYPE=image/png:https://volkermehl.com/wp-content/uploads/2026/02/Provence.png
END:VEVENT
END:VCALENDAR