BEGIN:VCALENDAR
VERSION:2.0
PRODID:-//Volker Mehl - ECPv6.10.1//NONSGML v1.0//EN
CALSCALE:GREGORIAN
METHOD:PUBLISH
X-WR-CALNAME:Volker Mehl
X-ORIGINAL-URL:https://volkermehl.com
X-WR-CALDESC:Veranstaltungen für Volker Mehl
REFRESH-INTERVAL;VALUE=DURATION:PT1H
X-Robots-Tag:noindex
X-PUBLISHED-TTL:PT1H
BEGIN:VTIMEZONE
TZID:Europe/Berlin
BEGIN:DAYLIGHT
TZOFFSETFROM:+0100
TZOFFSETTO:+0200
TZNAME:CEST
DTSTART:20260329T010000
END:DAYLIGHT
BEGIN:STANDARD
TZOFFSETFROM:+0200
TZOFFSETTO:+0100
TZNAME:CET
DTSTART:20261025T010000
END:STANDARD
END:VTIMEZONE
BEGIN:VEVENT
DTSTART;VALUE=DATE:20260224
DTEND;VALUE=DATE:20260225
DTSTAMP:20260426T005347
CREATED:20260210T003117Z
LAST-MODIFIED:20260210T004350Z
UID:10000422-1771891200-1771977599@volkermehl.com
SUMMARY:HR-Doku Weltwunder in Hessen · Kloster Lorsch – Tor zum frühen Mittelalter
DESCRIPTION:Volker ist Teil der neuen Folge der beliebten Reihe „Weltwunder in Hessen“.Das Team um Rebecca Rühl begleitet ihn in seine Kochwerkstatt\, wo er ein altes Klosterbrot-Rezept neu interpretiert\, besucht mit ihm den Kräutergarten und erlebt eine ganz besondere Mahlzeit unter freiem Himmel. \nDas Kloster Lorsch zählt zu den bedeutendsten Kulturdenkmälern Europas. Seit 1991 ist es UNESCO-Weltkulturerbe – das erste in Hessen. Tausende Menschen besuchen jedes Jahr dieses Zentrum von Bildung\, Kunst und Macht des frühen Mittelalters.Die berühmte Torhalle gilt als architektonisches Meisterwerk und als einzigartiges Zeugnis karolingischer Baukunst. \n📺 „Weltwunder in Hessen – Kloster Lorsch: Tor zum frühen Mittelalter“🗓 Erstausstrahlung: 3. März 2025 · 20:15 Uhr📡 im hr-fernsehen▶️ Bereits seit dem 24. Februar 2025 in der ARD-Mediathek verfügbar
URL:https://volkermehl.com/event/hr-doku-weltwunder-in-hessen-%c2%b7-kloster-lorsch-tor-zum-fruehen-mittelalter
LOCATION:Online
CATEGORIES:Online
ATTACH;FMTTYPE=image/png:https://volkermehl.com/wp-content/uploads/2026/02/Logo-HR.png
END:VEVENT
END:VCALENDAR