BEGIN:VCALENDAR
VERSION:2.0
PRODID:-//Volker Mehl - ECPv6.10.1//NONSGML v1.0//EN
CALSCALE:GREGORIAN
METHOD:PUBLISH
X-ORIGINAL-URL:https://volkermehl.com
X-WR-CALDESC:Veranstaltungen für Volker Mehl
REFRESH-INTERVAL;VALUE=DURATION:PT1H
X-Robots-Tag:noindex
X-PUBLISHED-TTL:PT1H
BEGIN:VTIMEZONE
TZID:Europe/Berlin
BEGIN:DAYLIGHT
TZOFFSETFROM:+0100
TZOFFSETTO:+0200
TZNAME:CEST
DTSTART:20260329T010000
END:DAYLIGHT
BEGIN:STANDARD
TZOFFSETFROM:+0200
TZOFFSETTO:+0100
TZNAME:CET
DTSTART:20261025T010000
END:STANDARD
END:VTIMEZONE
BEGIN:VEVENT
DTSTART;TZID=Europe/Berlin:20260223T180000
DTEND;TZID=Europe/Berlin:20260223T200000
DTSTAMP:20260426T005537
CREATED:20260220T075522Z
LAST-MODIFIED:20260220T075522Z
UID:10000428-1771869600-1771876800@volkermehl.com
SUMMARY: Life is a Circle Community Koch-Party
DESCRIPTION:Am Montag ab 18 Uhr treffen wir uns online zu einer kleinen\, feinen Kochparty 💫Live via Instagram –und für alle\, die noch näher dabei sein möchten\, zusätzlich über Zoom 🫶\nDie Idee:Jede*r kocht sein Lieblingsrezept aus dem Freebie\,wir connecten uns\, schnippeln\, rühren\, lachen –und quatschen natürlich auch über das Leben 🌍✨\nGenau darum geht’s doch:gemeinsam genießen\, austauschen\, inspirieren und verbunden bleiben 💛 \n👉 Zoom-Link:https://us02web.zoom.us/j/82066045389?pwd=akJkTXYyV0VDckVFMTdrS3hWMitudz09 \nMeeting-ID: 820 6604 5389Kenncode: 556086 \nIch freue mich riesig auf euch 🔥🍲 \nStay connected.
URL:https://volkermehl.com/event/life-is-a-circle-community-koch-party
LOCATION:Kochwerkstatt\, In der Krone 7\, Heppenheim\, 64646\, Germany
CATEGORIES:Ausbildung
ATTACH;FMTTYPE=image/png:https://volkermehl.com/wp-content/uploads/2026/02/Online-Kochparty.png
END:VEVENT
END:VCALENDAR