BEGIN:VCALENDAR
VERSION:2.0
PRODID:-//Volker Mehl - ECPv6.10.1//NONSGML v1.0//EN
CALSCALE:GREGORIAN
METHOD:PUBLISH
X-ORIGINAL-URL:https://volkermehl.com
X-WR-CALDESC:Veranstaltungen für Volker Mehl
REFRESH-INTERVAL;VALUE=DURATION:PT1H
X-Robots-Tag:noindex
X-PUBLISHED-TTL:PT1H
BEGIN:VTIMEZONE
TZID:Europe/Berlin
BEGIN:DAYLIGHT
TZOFFSETFROM:+0100
TZOFFSETTO:+0200
TZNAME:CEST
DTSTART:20260329T010000
END:DAYLIGHT
BEGIN:STANDARD
TZOFFSETFROM:+0200
TZOFFSETTO:+0100
TZNAME:CET
DTSTART:20261025T010000
END:STANDARD
END:VTIMEZONE
BEGIN:VEVENT
DTSTART;TZID=Europe/Berlin:20260206T100000
DTEND;TZID=Europe/Berlin:20260208T163000
DTSTAMP:20260426T050833
CREATED:20251023T101704Z
LAST-MODIFIED:20251207T164839Z
UID:10000369-1770372000-1770568200@volkermehl.com
SUMMARY:Ayurveda Grundlagen Ernährungs- und Kochausbildung (Ausgebucht)
DESCRIPTION:„Die Ayurveda Kochwerkstatt“: Volkers Grundlagen Ausbildung für gesunde Koch- und Ernährungspraxis im Alltag \nDas Interesse an einer naturnahen und gesunden Ernährung wächst stetig. Besonders der Wunsch nach individuellen Ansätzen und Lösungen ist weit verbreitet. Nach vielen Jahren Engagement in diesem Thema und zahlreichen daraus entstandenen Büchern freut uns das natürlich besonders! \nDer Ayurveda bietet seit jeher einen einfachen und praktischen Weg\, die eigene Gesundheit zu unterstützen und im Gleichgewicht zu bleiben oder dorthin zurückzufinden. Die Ernährung\, das Wissen um passende Lebensmittel\, die Heilwirkung von Gewürzen und Kräutern sowie die grundlegenden Prinzipien der Nahrungszubereitung und -aufnahme spielen dabei eine zentrale Rolle. Mit Volkers Idee der Ayurveda Heimatküche wurde eine Brücke zwischen dem „indischen Ayurveda“ und unserer regionalen Küche geschaffen\, die das Beste aus beiden Welten vereint. \nMit der intensiven Kochpraxis legen wir ein solides Fundament\, um jeden Tag von dem großartigen Wissen des Lebens profitieren zu können. \nAußerdem lichtet Volker den Verständnis-Nebel um die Bioenergien (Doshas) und zeigt dir\, wie du sie wirklich hilfreich einsetzen und in dein Familienleben integrieren kannst\, damit sie zukünftig mehr ein verbindendes Element als ein Spalter am Esstisch sind. \nDieser Kurs eignet sich für Einsteiger und Fortgeschrittene\, die ihre Kochpraxis vertiefen wollen und sowohl die gesunde Ayurveda-Küche als auch den gesundheitsfördernden und ausgleichenden Lebensstil dauerhaft\, einfach und leicht in ihr Leben integrieren möchten. \nDiese Weiterbildung beinhaltet: \n\nDas Buch „Die Ayurveda Kochwerkstatt“\, das gleichzeitig Skript ist und das du im Vorfeld zugeschickt bekommst\nVerpflegung während des Live-Seminars\nAufzeichnung der Online-Termine (für den Fall\, dass du nicht teilnehmen kannst)\nTeilnahmezertifikat\n\nDIE EINZELNEN TERMINE: \n02.02.2026\, 19-20.30 Uhr\nPersönliches Kennenlernen und Ayurveda Basics – Online Zoom\nIn diesem ersten Termin geht es vor allem um ein persönliches Kennenlernen und den Austausch von Erfahrungen\, Bedürfnissen und Zielen im Zusammenhang mit dieser Weiterbildung. \n06.-08.02.2026\, jeweils 10-16:30 Uhr\nKochpraxis Live – Intensiv-Wochenende in unserer Kochwerkstatt in Heppenheim\nAn diesem Intensiv-Wochenende tauchst du ein in die Kochpraxis unserer ayurvedischen Alltags-Küche. Wir kochen zusammen die wichtigsten Basis-Rezepte in Anlehnung an die „Werkstatt“\, angefangen bei den verschiedenen Frühstückvarianten\, Suppen\, Getränken bis hin zu ayurvedischen Süßspeisen. Du lernst den richtigen Umgang mit den wichtigsten Gewürzen und die einfache Herstellung von ausgleichenden Gewürzmischungen.\nGemeinsam in der Gruppe kochen und essen wir und lernen die Kunst der Improvisation\, losgelöst von Listen und Dogmen\, kennen. \n12.02.2026\, 19-20:00 Uhr\nRefresh / Frage & Antwort\nWir treffen uns im Nachgang noch einmal Online\, um Eure ersten Erfahrungen aus dem Alltag auszutauschen und Fragen zu klären. \nEs gibt aktuell noch 4 Plätze! \nKosten:\n695\,-€\, inkl. Buch und Verpflegung am Live-Termin \nAdresse:\nAyurveda Kochwerkstatt\, In der Krone 7 64646 Heppenheim \nAnmeldung per Mail unter: office@volkermehl.com
URL:https://volkermehl.com/event/ayurveda-grundlagen-ernaehrungs-und-kochausbildung
LOCATION:Kochwerkstatt\, In der Krone 7\, Heppenheim\, 64646\, Germany
CATEGORIES:Ausbildung
ATTACH;FMTTYPE=image/png:https://volkermehl.com/wp-content/uploads/2024/03/Ankuendigung.png
END:VEVENT
END:VCALENDAR