BEGIN:VCALENDAR
VERSION:2.0
PRODID:-//Volker Mehl - ECPv6.10.1//NONSGML v1.0//EN
CALSCALE:GREGORIAN
METHOD:PUBLISH
X-ORIGINAL-URL:https://volkermehl.com
X-WR-CALDESC:Veranstaltungen für Volker Mehl
REFRESH-INTERVAL;VALUE=DURATION:PT1H
X-Robots-Tag:noindex
X-PUBLISHED-TTL:PT1H
BEGIN:VTIMEZONE
TZID:Europe/Berlin
BEGIN:DAYLIGHT
TZOFFSETFROM:+0100
TZOFFSETTO:+0200
TZNAME:CEST
DTSTART:20260329T010000
END:DAYLIGHT
BEGIN:STANDARD
TZOFFSETFROM:+0200
TZOFFSETTO:+0100
TZNAME:CET
DTSTART:20261025T010000
END:STANDARD
END:VTIMEZONE
BEGIN:VEVENT
DTSTART;TZID=Europe/Berlin:20260204T190000
DTEND;TZID=Europe/Berlin:20260204T210000
DTSTAMP:20260426T033942
CREATED:20251209T183602Z
LAST-MODIFIED:20251209T184032Z
UID:10000396-1770231600-1770238800@volkermehl.com
SUMMARY:pop up Offene Kochwerkstatt in Darmstadt
DESCRIPTION:Die Offene Werkstatt kommt im Februar nach Darmstadt – und das gleich an drei besonderen Abenden!Volker bringt seine einzigartigen Herzkammer-Abende ins Martinsviertel und schafft Momente voller Wärme\, Geschmack und echter Verbundenheit. \nOrt:Thildas Eis\, Schuknechtstraße 1\, 64289 Darmstadt– die Heimat der Pop-up Werkstatt im Februar – \nTermine:• 4. Februar• 11. Februar• 25. Februar \nAn diesen Abenden hat Volker seine absoluten Klassiker aus der Herzkammer in Heppenheim dabei:– das berühmte Lieblings-Linsencurry– frisch selbstgebackenes Brot– Getreide-Gemüse-Salat– hausgemachter Kräuter-Dip– und natürlich Kuchen von Mama Mehl 💛 \nZeit: 19–21 UhrPreis: 30 € pro Person (inkl. Essen & Getränken)Plätze: limitiert auf 16 Tickets \nEin Abend\, der nachwirkt. Einmalige Momente\, die man nicht planen kann – aber unbedingt erleben sollte.
URL:https://volkermehl.com/event/offene-kochwerkstatt-4
LOCATION:Kochwerkstatt\, In der Krone 7\, Heppenheim\, 64646\, Germany
CATEGORIES:Auszeit
ATTACH;FMTTYPE=image/png:https://volkermehl.com/wp-content/uploads/2025/12/pop-up-martinsviertel.png
END:VEVENT
END:VCALENDAR