BEGIN:VCALENDAR
VERSION:2.0
PRODID:-//Volker Mehl - ECPv6.10.1//NONSGML v1.0//EN
CALSCALE:GREGORIAN
METHOD:PUBLISH
X-ORIGINAL-URL:https://volkermehl.com
X-WR-CALDESC:Veranstaltungen für Volker Mehl
REFRESH-INTERVAL;VALUE=DURATION:PT1H
X-Robots-Tag:noindex
X-PUBLISHED-TTL:PT1H
BEGIN:VTIMEZONE
TZID:Europe/Berlin
BEGIN:DAYLIGHT
TZOFFSETFROM:+0100
TZOFFSETTO:+0200
TZNAME:CEST
DTSTART:20260329T010000
END:DAYLIGHT
BEGIN:STANDARD
TZOFFSETFROM:+0200
TZOFFSETTO:+0100
TZNAME:CET
DTSTART:20261025T010000
END:STANDARD
END:VTIMEZONE
BEGIN:VEVENT
DTSTART;TZID=Europe/Berlin:20260128T190000
DTEND;TZID=Europe/Berlin:20260128T213000
DTSTAMP:20260426T022950
CREATED:20251109T090632Z
LAST-MODIFIED:20251109T090632Z
UID:10000377-1769626800-1769635800@volkermehl.com
SUMMARY:Die Schnippel-Party kommt zurück!
DESCRIPTION:Aus dem Supper Glasses Club wird der Super People Club 😉 \nIn der Werkstatt duftet es auch 2026 wieder nach frisch geschnittenen Kräutern\, warmen Töpfen und Geschichten\, die man nur am Küchentisch erzählt.Wir schaffen einen Raum in der einmaligen Atmosphäre meiner Kochwerkstatt – ein Ort\, an dem Nähe\, Lachen und echte Begegnung ganz selbstverständlich entstehen. \nPassend zum Jubiläumsjahr wählt ihr eure Lieblingsrezepte aus ALL meinen Büchern aus.Wir schnippeln\, kochen und genießen gemeinsam.Ich begleite euch durch den Abend\, teile Wissen\, Geschichten und Inspiration – und bin die ganze Zeit mitten bei euch. Nicht vorne. Sondern am Tisch. \nTermine\, jeweils ab 19 Uhr: 28. Januar18. Februar18. März \nEin Abend zum Ankommen. Zum Durchatmen. Zum Füreinander-da-Sein.Begrenzt auf 14 Plätze\, damit es persönlich bleibt.69€ pro Person\, inkl. aller Zutaten & Getränke.
URL:https://volkermehl.com/event/die-schnippel-party-kommt-zurueck
LOCATION:Kochwerkstatt\, In der Krone 7\, Heppenheim\, 64646\, Germany
CATEGORIES:Kochkurs
ATTACH;FMTTYPE=image/png:https://volkermehl.com/wp-content/uploads/2025/11/SUPpER-glases-CLUB-2.png
END:VEVENT
END:VCALENDAR