BEGIN:VCALENDAR
VERSION:2.0
PRODID:-//Volker Mehl - ECPv6.10.1//NONSGML v1.0//EN
CALSCALE:GREGORIAN
METHOD:PUBLISH
X-WR-CALNAME:Volker Mehl
X-ORIGINAL-URL:https://volkermehl.com
X-WR-CALDESC:Veranstaltungen für Volker Mehl
REFRESH-INTERVAL;VALUE=DURATION:PT1H
X-Robots-Tag:noindex
X-PUBLISHED-TTL:PT1H
BEGIN:VTIMEZONE
TZID:Europe/Berlin
BEGIN:DAYLIGHT
TZOFFSETFROM:+0100
TZOFFSETTO:+0200
TZNAME:CEST
DTSTART:20240331T010000
END:DAYLIGHT
BEGIN:STANDARD
TZOFFSETFROM:+0200
TZOFFSETTO:+0100
TZNAME:CET
DTSTART:20241027T010000
END:STANDARD
END:VTIMEZONE
BEGIN:VEVENT
DTSTART;TZID=Europe/Berlin:20240616T110000
DTEND;TZID=Europe/Berlin:20240616T143000
DTSTAMP:20260425T215454
CREATED:20240429T213345Z
LAST-MODIFIED:20240521T121923Z
UID:10000187-1718535600-1718548200@volkermehl.com
SUMMARY:Koch dich gesund – Ayurveda trifft Klosterküche für Einsteiger
DESCRIPTION:Entdecke die Geheimnisse der gesunden Klosterküche für Einsteiger! \nTauche ein in die Welt der traditionellen Klosterküche und lerne\, wie du köstliche und nahrhafte Mahlzeiten zubereiten kannst\, die nicht nur deinen Gaumen verwöhnen\, sondern auch deinem Körper und Geist guttun. \nUnser Kochkurs „Gesunde Klosterküche für Einsteiger“ ist die perfekte Gelegenheit für alle\, die ihre Kochkünste auf eine neue Ebene bringen möchten. Inspiriert von den einfachen und dennoch raffinierten Rezepten der Klöster vergangener Zeiten\, werden wir gemeinsam lernen\, wie man mit frischen Zutaten und traditionellen Kochtechniken gesunde und schmackhafte Gerichte zaubert. \nIn diesem Kurs wirst du:\n– Die Grundlagen der Klosterküche kennenlernen und verstehen\, warum sie auch heute noch relevant ist.\n– Traditionelle Rezepte und Zubereitungsmethoden entdecken\, die du leicht in deinen Alltag integrieren kannst.\n– Tipps und Tricks für eine ausgewogene und gesunde Ernährung erhalten\, die energiegeladen ist und dich vitalisiert.\n– Gemeinsam mit Gleichgesinnten kochen\, essen und genießen\, während du dich von der entspannten Atmosphäre der Kochwerkstatt inspirieren lässt. \nGemeinsam kochen wir diese Rezepte:\n-Dinkelflocken-Porridge mit Aprikosen\, Minze\, Galgant\, Zimt\, Honig und Walnüssen\n-Herzhafte vegetarische Rahmflecken mit Zwiebeln und Käse\n-Vegetarischer Benediktiner Eintopf mit Frischkäse\n-Pflaumen-Basilikum-Sauce mit roten Weintrauben\n-Confierter Knoblauch mit Rosmarin\, Thymian und Chili\n-Karthäuser Klöse mit Weiswein Schaum Creme \nEgal\, ob du ein erfahrener Koch oder ein absoluter Anfänger bist\, dieser Kurs ist für jeden geeignet\, der sich für gesunde Ernährung\, Kochen und Spiritualität interessiert. Komm und lerne mit uns\, wie man mit einfachen Zutaten und liebevoller Zubereitung ein Festmahl zaubert\, das Körper\, Geist und Seele nährt. \nMelde dich jetzt an und entdecke die zeitlose Schönheit und den Geschmack der gesunden Klosterküche! \nVeranstaltungsort:\nKochschule\, In der Krone 7\, 64646 Heppenheim \nKosten:\n149 €\, inkl. Rezepte
URL:https://volkermehl.com/event/klosterkueche-fuer-einsteiger
LOCATION:Kochwerkstatt\, In der Krone 7\, Heppenheim\, 64646\, Germany
CATEGORIES:Kochkurs
ATTACH;FMTTYPE=image/png:https://volkermehl.com/wp-content/uploads/2024/04/Maulbronn.png
END:VEVENT
END:VCALENDAR